BEGIN:VCALENDAR
VERSION:2.0
PRODID:-//Contratero//ES
CALSCALE:GREGORIAN
METHOD:PUBLISH
BEGIN:VEVENT
UID:SSCC PA 92/25 BIS@contratero.es
DTSTAMP:20260420T084057Z
DTSTART:20250516T235959
DTEND:20250517T005959
SUMMARY:Cierre: Servicios profesionales para la elaboración e impl
DESCRIPTION:Servicios profesionales para la elaboración e implementación de un diseño web para el portal institucional del Servicio de Salud de las Islas Baleares\\n\\nOrganismo: Servicio de Salud de las Illes Balears\\n\\nVer en Contratero: https://contratero.es/contracts/SSCC PA 92/25 BIS
URL:https://contratero.es/contracts/SSCC PA 92/25 BIS
STATUS:CONFIRMED
BEGIN:VALARM
TRIGGER:-P1D
ACTION:DISPLAY
DESCRIPTION:Recordatorio: Servicios profesionales para l
END:VALARM
END:VEVENT
END:VCALENDAR